BEGIN:VCALENDAR
VERSION:2.0
PRODID:-//85.214.159.91//NONSGML kigkonsult.se iCalcreator 2.20//
CALSCALE:GREGORIAN
METHOD:PUBLISH
X-WR-TIMEZONE:Europe/Berlin
BEGIN:VEVENT
UID:event707@Andrej Hunko, MdB
DTSTAMP:20231026T231125Z
CATEGORIES:Wahlkreisfahrt
DESCRIPTION:Politische Berlin-Fahrt für Studierende\nKategorie: Wahlkreisfa
 hrt\nICS-Link: https://www.andrej-hunko.de/index.php?option=com_jem&view=e
 vent&id=707:politische-informationsfahrt-nach-berlin\n
DTSTART;TZID=Europe/Berlin:20160927T101300
DTEND;TZID=Europe/Berlin:20160930T195000
LOCATION:Deutscher Bundestag\,Platz der Republik 1\,11011 Berlin
SUMMARY:Politische Berlin-Fahrt für Studierende
URL:https://www.andrej-hunko.de/index.php?option=com_jem&view=event&id=707:
 politische-informationsfahrt-nach-berlin
END:VEVENT
END:VCALENDAR
